BEGIN:VCALENDAR
VERSION:2.0
PRODID:icalendar-ruby
CALSCALE:GREGORIAN
METHOD:PUBLISH
BEGIN:VTIMEZONE
TZID:Australia/Perth
BEGIN:STANDARD
DTSTART:20090329T020000
TZOFFSETFROM:+0900
TZOFFSETTO:+0800
TZNAME:AWST
END:STANDARD
END:VTIMEZONE
BEGIN:VEVENT
DTSTAMP:20260420T133610Z
UID:inspection_3005795
DTSTART;TZID=Australia/Perth:20260425T123000
DTEND;TZID=Australia/Perth:20260425T130000
CLASS:PUBLIC
CREATED:20260420T145103
DESCRIPTION: 
LAST-MODIFIED:20260420T145103
LOCATION:42 Araluen Street\, MORLEY WA 6062\, Australia
SUMMARY:42 Araluen Street\,  Inspection
URL;VALUE=URI:teamsammut.com.au
END:VEVENT
END:VCALENDAR
